BEGIN:VCALENDAR
VERSION:2.0
PRODID:DPCALENDAR
CALSCALE:GREGORIAN
X-WR-TIMEZONE:UTC
BEGIN:VEVENT
DTSTART;TZID=America/Detroit:20260514T190000
DTEND;TZID=America/Detroit:20260514T203000
UID:3hrmuqhi5ef5klcrpbfnvn6vot@google.com
RECURRENCE-ID:20260514T230000Z
SUMMARY:KofC Council Meeting
DTSTAMP:20240530T004930Z
DESCRIPTION:Council meeting will start at 7:00pm
X-ALT-DESC;FMTTYPE=text/html:<p>Council meeting will start at 7:00pm</p>
LOCATION:44633 Utica Road\, 48317 Utica\, Michigan\, United States
GEO:42.62153190;-83.03939130
LAST-MODIFIED:20251106T224548Z
X-ACCESS:1
X-HITS:0
X-URL:https://www.google.com/calendar/event?eid=M2hybXVxaGk1ZWY1a2xjcnBiZm52bjZ2b3RfMjAyNjA1MTRUMjMwMDAwWiB1dGljYWtuaWdodHNAbQ
X-COLOR:4986e7
END:VEVENT
END:VCALENDAR