BEGIN:VCALENDAR
VERSION:2.0
PRODID:DPCALENDAR
CALSCALE:GREGORIAN
X-WR-TIMEZONE:UTC
BEGIN:VEVENT
DTSTART;TZID=America/Detroit:20260430T190000
DTEND;TZID=America/Detroit:20260430T203000
UID:3psvtoa5qrrar782cf6hpjps4t@google.com
RECURRENCE-ID:20260430T230000Z
SUMMARY:KofC Planning Meeting
DTSTAMP:20240530T004826Z
DESCRIPTION:
X-ALT-DESC;FMTTYPE=text/html:
LOCATION:44633 Utica Road\, 48317 Utica\, Michigan\, United States
GEO:42.62146700;-83.03939270
LAST-MODIFIED:20251129T210805Z
X-ACCESS:1
X-HITS:0
X-URL:https://www.google.com/calendar/event?eid=M3BzdnRvYTVxcnJhcjc4MmNmNmhwanBzNHRfMjAyNjA0MzBUMjMwMDAwWiB1dGljYWtuaWdodHNAbQ
X-COLOR:4986e7
END:VEVENT
END:VCALENDAR