BEGIN:VCALENDAR
VERSION:2.0
PRODID:DPCALENDAR
CALSCALE:GREGORIAN
X-WR-TIMEZONE:UTC
BEGIN:VEVENT
DTSTART;TZID=America/Detroit:20260504T190000
DTEND;TZID=America/Detroit:20260504T220000
UID:7q9sqocsj174m9n93fp4fi328r_R20260106T000000@google.com
RECURRENCE-ID:20260504T230000Z
SUMMARY:Knights Corp Meeting
DTSTAMP:20240530T005312Z
DESCRIPTION:This meeting is open to all members.Attendance of Knights Corp members isMANDATORY!
X-ALT-DESC;FMTTYPE=text/html:<u></u>This meeting is open to all members.<br>Attendance of Knights Corp members is<br>MANDATORY!<u></u>
LOCATION:12311 19 Mile Road\, 48313 Sterling Heights\, Michigan\, United States
GEO:42.61048010;-83.00530990
LAST-MODIFIED:20251129T211914Z
X-ACCESS:1
X-HITS:0
X-URL:https://www.google.com/calendar/event?eid=N3E5c3FvY3NqMTc0bTluOTNmcDRmaTMyOHJfMjAyNjA1MDRUMjMwMDAwWiB1dGljYWtuaWdodHNAbQ
X-COLOR:4986e7
END:VEVENT
END:VCALENDAR