BEGIN:VCALENDAR
VERSION:2.0
PRODID:DPCALENDAR
CALSCALE:GREGORIAN
X-WR-TIMEZONE:UTC
BEGIN:VEVENT
DTSTART;TZID=America/Detroit:20260521T190000
DTEND;TZID=America/Detroit:20260521T203000
UID:_70qjedq48kr46b9m71234b9k8co4cba170q3gba3851jac1l6t2j2dpn88_R20251121T000000@google.com
RECURRENCE-ID:20260521T230000Z
SUMMARY:4th Degree Meeting
DTSTAMP:20250530T230423Z
DESCRIPTION:4th Degree meets on the third Thursday of the month.  A meal is served before the meeting at 6:30pm.
X-ALT-DESC;FMTTYPE=text/html:4th Degree meets on the third Thursday of the month.  A meal is served before the meeting at 6:30pm.
LOCATION:41300 Romeo Plank Road\, Michigan\, United States
GEO:42.60119820;-82.93130770
LAST-MODIFIED:20251129T210533Z
X-ACCESS:1
X-HITS:0
X-URL:https://www.google.com/calendar/event?eid=XzcwcWplZHE0OGtyNDZiOW03MTIzNGI5azhjbzRjYmExNzBxM2diYTM4NTFqYWMxbDZ0MmoyZHBuODhfMjAyNjA1MjFUMjMwMDAwWiB1dGljYWtuaWdodHNAbQ
X-COLOR:4986e7
END:VEVENT
END:VCALENDAR